Package: GSEABenchmarkeR Version: 1.26.0 Command: /Library/Frameworks/R.framework/Resources/bin/R CMD INSTALL GSEABenchmarkeR StartedAt: 2025-01-27 15:42:31 -0500 (Mon, 27 Jan 2025) EndedAt: 2025-01-27 15:43:16 -0500 (Mon, 27 Jan 2025) EllapsedTime: 44.3 seconds RetCode: 0 Status: OK