Package: GSEABenchmarkeR Version: 1.26.0 Command: /Library/Frameworks/R.framework/Resources/bin/R CMD check --install=check:GSEABenchmarkeR.install-out.txt --library=/Library/Frameworks/R.framework/Resources/library --no-vignettes --timings GSEABenchmarkeR_1.26.0.tar.gz StartedAt: 2025-04-01 21:18:25 -0400 (Tue, 01 Apr 2025) EndedAt: 2025-04-01 21:23:30 -0400 (Tue, 01 Apr 2025) EllapsedTime: 305.4 seconds RetCode: 0 Status: OK CheckDir: GSEABenchmarkeR.Rcheck Warnings: 0