Package: GSEABenchmarkeR Version: 1.26.0 Command: /Library/Frameworks/R.framework/Resources/bin/R CMD build --keep-empty-dirs --no-resave-data GSEABenchmarkeR StartedAt: 2025-01-28 01:03:21 -0500 (Tue, 28 Jan 2025) EndedAt: 2025-01-28 01:06:12 -0500 (Tue, 28 Jan 2025) EllapsedTime: 170.8 seconds RetCode: 0 Status: OK PackageFile: GSEABenchmarkeR_1.26.0.tar.gz PackageFileSize: 567.5 KiB