Package: GSCA Version: 2.36.0 Command: /home/biocbuild/R/R/bin/R CMD build --keep-empty-dirs --no-resave-data GSCA StartedAt: 2025-01-28 00:49:36 -0000 (Tue, 28 Jan 2025) EndedAt: 2025-01-28 00:49:54 -0000 (Tue, 28 Jan 2025) EllapsedTime: 18.0 seconds RetCode: 0 Status: OK PackageFile: GSCA_2.36.0.tar.gz PackageFileSize: 2.283 MiB