Package: GSCA Version: 2.36.0 Command: /Library/Frameworks/R.framework/Resources/bin/R CMD INSTALL GSCA StartedAt: 2025-01-27 15:58:58 -0500 (Mon, 27 Jan 2025) EndedAt: 2025-01-27 15:59:12 -0500 (Mon, 27 Jan 2025) EllapsedTime: 13.9 seconds RetCode: 0 Status: OK