Package: GSAR Version: 1.40.0 Command: rm -rf GSAR.buildbin-libdir && mkdir GSAR.buildbin-libdir && /Users/biocbuild/BBS/utils/build-universal.sh GSAR_1.40.0.tar.gz /Library/Frameworks/R.framework/Resources/bin/R GSAR.buildbin-libdir StartedAt: 2025-01-29 14:56:08 -0500 (Wed, 29 Jan 2025) EndedAt: 2025-01-29 14:56:15 -0500 (Wed, 29 Jan 2025) EllapsedTime: 6.8 seconds RetCode: 0 Status: OK PackageFile: GSAR_1.40.0.tgz PackageFileSize: 3.479 MiB