Package: GSALightning Version: 1.34.0 Command: /home/biocbuild/bbs-3.20-bioc/R/bin/R CMD INSTALL GSALightning StartedAt: 2025-03-31 15:09:20 -0400 (Mon, 31 Mar 2025) EndedAt: 2025-03-31 15:09:35 -0400 (Mon, 31 Mar 2025) EllapsedTime: 15.4 seconds RetCode: 0 Status: OK