Package: GSALightning Version: 1.34.0 Command: /home/biocbuild/bbs-3.20-bioc/R/bin/R CMD build --keep-empty-dirs --no-resave-data --md5 GSALightning StartedAt: 2025-01-27 18:27:44 -0500 (Mon, 27 Jan 2025) EndedAt: 2025-01-27 18:28:45 -0500 (Mon, 27 Jan 2025) EllapsedTime: 61.0 seconds RetCode: 0 Status: OK PackageFile: GSALightning_1.34.0.tar.gz PackageFileSize: 4.26 MiB