Package: GSALightning Version: 1.34.0 Command: /Library/Frameworks/R.framework/Resources/bin/R CMD check --install=check:GSALightning.install-out.txt --library=/Library/Frameworks/R.framework/Resources/library --no-vignettes --timings GSALightning_1.34.0.tar.gz StartedAt: 2025-01-28 21:18:59 -0500 (Tue, 28 Jan 2025) EndedAt: 2025-01-28 21:19:51 -0500 (Tue, 28 Jan 2025) EllapsedTime: 51.8 seconds RetCode: 0 Status: OK CheckDir: GSALightning.Rcheck Warnings: 0