Package: GSALightning Version: 1.34.0 Command: /Library/Frameworks/R.framework/Resources/bin/R CMD build --keep-empty-dirs --no-resave-data GSALightning StartedAt: 2025-04-01 00:48:00 -0400 (Tue, 01 Apr 2025) EndedAt: 2025-04-01 00:49:29 -0400 (Tue, 01 Apr 2025) EllapsedTime: 88.6 seconds RetCode: 0 Status: OK PackageFile: GSALightning_1.34.0.tar.gz PackageFileSize: 4.272 MiB