Package: GRmetrics Version: 1.32.0 Command: /home/biocbuild/R/R/bin/R CMD INSTALL GRmetrics StartedAt: 2025-01-27 21:48:40 -0000 (Mon, 27 Jan 2025) EndedAt: 2025-01-27 21:49:07 -0000 (Mon, 27 Jan 2025) EllapsedTime: 26.2 seconds RetCode: 0 Status: OK