Package: GRmetrics Version: 1.32.0 Command: /home/biocbuild/bbs-3.20-bioc/R/bin/R CMD INSTALL GRmetrics StartedAt: 2025-01-27 16:38:22 -0500 (Mon, 27 Jan 2025) EndedAt: 2025-01-27 16:38:46 -0500 (Mon, 27 Jan 2025) EllapsedTime: 23.7 seconds RetCode: 0 Status: OK