Package: GRmetrics Version: 1.32.0 Command: /Library/Frameworks/R.framework/Resources/bin/R CMD INSTALL GRmetrics StartedAt: 2025-03-31 16:13:41 -0400 (Mon, 31 Mar 2025) EndedAt: 2025-03-31 16:14:26 -0400 (Mon, 31 Mar 2025) EllapsedTime: 44.6 seconds RetCode: 0 Status: OK