Package: GRmetrics Version: 1.32.0 Command: /Library/Frameworks/R.framework/Resources/bin/R CMD check --install=check:GRmetrics.install-out.txt --library=/Library/Frameworks/R.framework/Resources/library --no-vignettes --timings GRmetrics_1.32.0.tar.gz StartedAt: 2025-04-01 03:57:59 -0400 (Tue, 01 Apr 2025) EndedAt: 2025-04-01 04:02:34 -0400 (Tue, 01 Apr 2025) EllapsedTime: 275.6 seconds RetCode: 0 Status: OK CheckDir: GRmetrics.Rcheck Warnings: 0