Package: GRmetrics Version: 1.32.0 Command: /Library/Frameworks/R.framework/Resources/bin/R CMD build --keep-empty-dirs --no-resave-data GRmetrics StartedAt: 2025-03-31 19:08:47 -0400 (Mon, 31 Mar 2025) EndedAt: 2025-03-31 19:10:22 -0400 (Mon, 31 Mar 2025) EllapsedTime: 94.8 seconds RetCode: 0 Status: OK PackageFile: GRmetrics_1.32.0.tar.gz PackageFileSize: 1.936 MiB