Package: GRmetrics Version: 1.32.0 Command: /Library/Frameworks/R.framework/Resources/bin/R CMD INSTALL GRmetrics StartedAt: 2025-01-27 17:26:08 -0500 (Mon, 27 Jan 2025) EndedAt: 2025-01-27 17:26:32 -0500 (Mon, 27 Jan 2025) EllapsedTime: 24.2 seconds RetCode: 0 Status: OK