Package: GRaNIE Version: 1.10.0 Command: /home/biocbuild/R/R/bin/R CMD check --install=check:GRaNIE.install-out.txt --library=/home/biocbuild/R/R/site-library --no-vignettes --timings GRaNIE_1.10.0.tar.gz StartedAt: 2025-02-04 07:37:35 -0000 (Tue, 04 Feb 2025) EndedAt: 2025-02-04 07:37:40 -0000 (Tue, 04 Feb 2025) EllapsedTime: 5.0 seconds RetCode: 1 Status: ERROR CheckDir: GRaNIE.Rcheck Warnings: NA