Package: GRaNIE Version: 1.10.0 Command: /home/biocbuild/R/R/bin/R CMD build --keep-empty-dirs --no-resave-data GRaNIE StartedAt: 2025-01-31 00:05:17 -0000 (Fri, 31 Jan 2025) EndedAt: 2025-01-31 00:11:08 -0000 (Fri, 31 Jan 2025) EllapsedTime: 351.2 seconds RetCode: 0 Status: OK PackageFile: GRaNIE_1.10.0.tar.gz PackageFileSize: 4.21 MiB