Package: GRaNIE Version: 1.10.0 Command: /Library/Frameworks/R.framework/Resources/bin/R CMD INSTALL GRaNIE StartedAt: 2025-02-03 16:20:03 -0500 (Mon, 03 Feb 2025) EndedAt: 2025-02-03 16:21:00 -0500 (Mon, 03 Feb 2025) EllapsedTime: 57.2 seconds RetCode: 0 Status: OK