Package: GRaNIE Version: 1.10.0 Command: /Library/Frameworks/R.framework/Resources/bin/R CMD build --keep-empty-dirs --no-resave-data GRaNIE StartedAt: 2025-02-04 00:53:14 -0500 (Tue, 04 Feb 2025) EndedAt: 2025-02-04 00:57:45 -0500 (Tue, 04 Feb 2025) EllapsedTime: 271.2 seconds RetCode: 0 Status: OK PackageFile: GRaNIE_1.10.0.tar.gz PackageFileSize: 8.151 MiB