Package: GRENITS Version: 1.58.0 Command: F:\biocbuild\bbs-3.20-bioc\R\bin\R.exe CMD INSTALL GRENITS StartedAt: 2025-03-31 15:34:42 -0400 (Mon, 31 Mar 2025) EndedAt: 2025-03-31 15:36:19 -0400 (Mon, 31 Mar 2025) EllapsedTime: 97.5 seconds RetCode: 0 Status: OK