Package: GRENITS Version: 1.58.0 Command: /Library/Frameworks/R.framework/Resources/bin/R CMD build --keep-empty-dirs --no-resave-data GRENITS StartedAt: 2025-01-27 19:26:56 -0500 (Mon, 27 Jan 2025) EndedAt: 2025-01-27 19:30:26 -0500 (Mon, 27 Jan 2025) EllapsedTime: 210.0 seconds RetCode: 0 Status: OK PackageFile: GRENITS_1.58.0.tar.gz PackageFileSize: 266.8 KiB