Package: GPA Version: 1.18.0 Command: /home/biocbuild/R/R/bin/R CMD INSTALL GPA StartedAt: 2025-03-31 20:46:34 -0000 (Mon, 31 Mar 2025) EndedAt: 2025-03-31 20:46:55 -0000 (Mon, 31 Mar 2025) EllapsedTime: 21.1 seconds RetCode: 0 Status: OK