Package: GPA Version: 1.18.0 Command: rm -rf GPA.buildbin-libdir && mkdir GPA.buildbin-libdir && F:\biocbuild\bbs-3.20-bioc\R\bin\R.exe CMD INSTALL --build --library=GPA.buildbin-libdir GPA_1.18.0.tar.gz StartedAt: 2025-01-28 08:17:31 -0500 (Tue, 28 Jan 2025) EndedAt: 2025-01-28 08:18:05 -0500 (Tue, 28 Jan 2025) EllapsedTime: 33.9 seconds RetCode: 0 Status: OK PackageFile: GPA_1.18.0.zip PackageFileSize: 753.4 KiB