Package: GOstats Version: 2.72.0 Command: /home/biocbuild/R/R/bin/R CMD INSTALL GOstats StartedAt: 2025-01-27 21:47:06 -0000 (Mon, 27 Jan 2025) EndedAt: 2025-01-27 21:47:34 -0000 (Mon, 27 Jan 2025) EllapsedTime: 28.1 seconds RetCode: 0 Status: OK