Package: GOstats Version: 2.72.0 Command: F:\biocbuild\bbs-3.20-bioc\R\bin\R.exe CMD INSTALL GOstats StartedAt: 2025-01-27 16:38:58 -0500 (Mon, 27 Jan 2025) EndedAt: 2025-01-27 16:39:36 -0500 (Mon, 27 Jan 2025) EllapsedTime: 38.1 seconds RetCode: 0 Status: OK