Package: GOstats Version: 2.72.0 Command: /home/biocbuild/bbs-3.20-bioc/R/bin/R CMD build --keep-empty-dirs --no-resave-data --md5 GOstats StartedAt: 2025-02-03 17:40:04 -0500 (Mon, 03 Feb 2025) EndedAt: 2025-02-03 17:50:32 -0500 (Mon, 03 Feb 2025) EllapsedTime: 627.8 seconds RetCode: 0 Status: OK PackageFile: GOstats_2.72.0.tar.gz PackageFileSize: 3.535 MiB