Package: GOfuncR Version: 1.26.0 Command: /home/biocbuild/R/R/bin/R CMD build --keep-empty-dirs --no-resave-data GOfuncR StartedAt: 2025-01-28 00:43:24 -0000 (Tue, 28 Jan 2025) EndedAt: 2025-01-28 00:48:20 -0000 (Tue, 28 Jan 2025) EllapsedTime: 296.1 seconds RetCode: 0 Status: OK PackageFile: GOfuncR_1.26.0.tar.gz PackageFileSize: 4.869 MiB