Package: GOfuncR Version: 1.26.0 Command: /Library/Frameworks/R.framework/Resources/bin/R CMD build --keep-empty-dirs --no-resave-data GOfuncR StartedAt: 2025-01-28 00:45:36 -0500 (Tue, 28 Jan 2025) EndedAt: 2025-01-28 00:50:44 -0500 (Tue, 28 Jan 2025) EllapsedTime: 307.9 seconds RetCode: 0 Status: OK PackageFile: GOfuncR_1.26.0.tar.gz PackageFileSize: 5.209 MiB