Package: GOexpress Version: 1.40.0 Command: F:\biocbuild\bbs-3.20-bioc\R\bin\R.exe CMD INSTALL GOexpress StartedAt: 2025-02-03 16:04:00 -0500 (Mon, 03 Feb 2025) EndedAt: 2025-02-03 16:04:35 -0500 (Mon, 03 Feb 2025) EllapsedTime: 35.2 seconds RetCode: 0 Status: OK