Package: GOexpress Version: 1.40.0 Command: chmod a+r GOexpress -R && F:\biocbuild\bbs-3.20-bioc\R\bin\R.exe CMD build --keep-empty-dirs --no-resave-data GOexpress StartedAt: 2025-01-27 19:18:42 -0500 (Mon, 27 Jan 2025) EndedAt: 2025-01-27 19:19:34 -0500 (Mon, 27 Jan 2025) EllapsedTime: 52.3 seconds RetCode: 0 Status: OK PackageFile: GOexpress_1.40.0.tar.gz PackageFileSize: 2.346 MiB