Package: GOexpress Version: 1.40.0 Command: /Library/Frameworks/R.framework/Resources/bin/R CMD check --install=check:GOexpress.install-out.txt --library=/Library/Frameworks/R.framework/Resources/library --no-vignettes --timings GOexpress_1.40.0.tar.gz StartedAt: 2025-04-01 20:58:47 -0400 (Tue, 01 Apr 2025) EndedAt: 2025-04-01 21:01:06 -0400 (Tue, 01 Apr 2025) EllapsedTime: 139.0 seconds RetCode: 0 Status: WARNINGS CheckDir: GOexpress.Rcheck Warnings: 1