Package: GOexpress Version: 1.40.0 Command: rm -rf GOexpress.buildbin-libdir && mkdir GOexpress.buildbin-libdir && /Users/biocbuild/BBS/utils/build-universal.sh GOexpress_1.40.0.tar.gz /Library/Frameworks/R.framework/Resources/bin/R GOexpress.buildbin-libdir StartedAt: 2025-01-29 14:53:15 -0500 (Wed, 29 Jan 2025) EndedAt: 2025-01-29 14:53:40 -0500 (Wed, 29 Jan 2025) EllapsedTime: 25.0 seconds RetCode: 0 Status: OK PackageFile: GOexpress_1.40.0.tgz PackageFileSize: 3.026 MiB