Package: GOTHiC Version: 1.42.0 Command: /home/biocbuild/R/R/bin/R CMD check --install=check:GOTHiC.install-out.txt --library=/home/biocbuild/R/R/site-library --no-vignettes --timings GOTHiC_1.42.0.tar.gz StartedAt: 2025-01-28 07:44:39 -0000 (Tue, 28 Jan 2025) EndedAt: 2025-01-28 08:03:23 -0000 (Tue, 28 Jan 2025) EllapsedTime: 1124.1 seconds RetCode: 0 Status: OK CheckDir: GOTHiC.Rcheck Warnings: 0