Package: GOTHiC Version: 1.42.0 Command: rm -rf GOTHiC.buildbin-libdir && mkdir GOTHiC.buildbin-libdir && F:\biocbuild\bbs-3.20-bioc\R\bin\R.exe CMD INSTALL --build --library=GOTHiC.buildbin-libdir GOTHiC_1.42.0.tar.gz StartedAt: 2025-01-28 08:17:26 -0500 (Tue, 28 Jan 2025) EndedAt: 2025-01-28 08:18:12 -0500 (Tue, 28 Jan 2025) EllapsedTime: 45.7 seconds RetCode: 0 Status: OK PackageFile: GOTHiC_1.42.0.zip PackageFileSize: 1.636 MiB