Package: GOTHiC Version: 1.42.0 Command: /home/biocbuild/bbs-3.20-bioc/R/bin/R CMD INSTALL GOTHiC StartedAt: 2025-01-27 16:18:49 -0500 (Mon, 27 Jan 2025) EndedAt: 2025-01-27 16:19:29 -0500 (Mon, 27 Jan 2025) EllapsedTime: 40.6 seconds RetCode: 0 Status: OK