Package: GOTHiC Version: 1.42.0 Command: /Library/Frameworks/R.framework/Resources/bin/R CMD build --keep-empty-dirs --no-resave-data GOTHiC StartedAt: 2025-02-03 19:20:49 -0500 (Mon, 03 Feb 2025) EndedAt: 2025-02-03 19:22:17 -0500 (Mon, 03 Feb 2025) EllapsedTime: 88.2 seconds RetCode: 0 Status: OK PackageFile: GOTHiC_1.42.0.tar.gz PackageFileSize: 1.697 MiB