Package: GOTHiC Version: 1.42.0 Command: rm -rf GOTHiC.buildbin-libdir && mkdir GOTHiC.buildbin-libdir && /Users/biocbuild/BBS/utils/build-universal.sh GOTHiC_1.42.0.tar.gz /Library/Frameworks/R.framework/Resources/bin/R GOTHiC.buildbin-libdir StartedAt: 2024-11-20 04:30:02 -0500 (Wed, 20 Nov 2024) EndedAt: 2024-11-20 04:30:59 -0500 (Wed, 20 Nov 2024) EllapsedTime: 57.3 seconds RetCode: 0 Status: OK PackageFile: GOTHiC_1.42.0.tgz PackageFileSize: 1.759 MiB