Package: GNET2 Version: 1.22.0 Command: /Library/Frameworks/R.framework/Resources/bin/R CMD INSTALL GNET2 StartedAt: 2025-03-31 15:49:40 -0400 (Mon, 31 Mar 2025) EndedAt: 2025-03-31 15:50:44 -0400 (Mon, 31 Mar 2025) EllapsedTime: 64.1 seconds RetCode: 0 Status: OK