Package: GMRP Version: 1.34.0 Command: chmod a+r GMRP -R && F:\biocbuild\bbs-3.20-bioc\R\bin\R.exe CMD build --keep-empty-dirs --no-resave-data GMRP StartedAt: 2025-01-27 19:18:23 -0500 (Mon, 27 Jan 2025) EndedAt: 2025-01-27 19:18:53 -0500 (Mon, 27 Jan 2025) EllapsedTime: 29.9 seconds RetCode: 0 Status: OK PackageFile: GMRP_1.34.0.tar.gz PackageFileSize: 899.8 KiB