Package: GMRP Version: 1.34.0 Command: /home/biocbuild/bbs-3.20-bioc/R/bin/R CMD build --keep-empty-dirs --no-resave-data --md5 GMRP StartedAt: 2025-01-27 18:23:44 -0500 (Mon, 27 Jan 2025) EndedAt: 2025-01-27 18:24:01 -0500 (Mon, 27 Jan 2025) EllapsedTime: 17.0 seconds RetCode: 0 Status: OK PackageFile: GMRP_1.34.0.tar.gz PackageFileSize: 898.4 KiB