Package: GLAD Version: 2.70.0 Command: /Library/Frameworks/R.framework/Resources/bin/R CMD check --install=check:GLAD.install-out.txt --library=/Library/Frameworks/R.framework/Resources/library --no-vignettes --timings GLAD_2.70.0.tar.gz StartedAt: 2025-04-01 20:48:02 -0400 (Tue, 01 Apr 2025) EndedAt: 2025-04-01 20:48:36 -0400 (Tue, 01 Apr 2025) EllapsedTime: 33.7 seconds RetCode: 0 Status: WARNINGS CheckDir: GLAD.Rcheck Warnings: 2