Package: GLAD Version: 2.70.0 Command: /Library/Frameworks/R.framework/Resources/bin/R CMD build --keep-empty-dirs --no-resave-data GLAD StartedAt: 2025-04-01 00:17:34 -0400 (Tue, 01 Apr 2025) EndedAt: 2025-04-01 00:18:03 -0400 (Tue, 01 Apr 2025) EllapsedTime: 28.4 seconds RetCode: 0 Status: OK PackageFile: GLAD_2.70.0.tar.gz PackageFileSize: 1.302 MiB