Package: GIGSEA Version: 1.24.0 Command: /home/biocbuild/bbs-3.20-bioc/R/bin/R CMD check --install=check:GIGSEA.install-out.txt --library=/home/biocbuild/bbs-3.20-bioc/R/site-library --timings GIGSEA_1.24.0.tar.gz StartedAt: 2025-02-10 22:41:54 -0500 (Mon, 10 Feb 2025) EndedAt: 2025-02-10 22:46:31 -0500 (Mon, 10 Feb 2025) EllapsedTime: 277.3 seconds RetCode: 0 Status: OK CheckDir: GIGSEA.Rcheck Warnings: 0