Package: GIGSEA Version: 1.24.0 Command: /Library/Frameworks/R.framework/Resources/bin/R CMD check --install=check:GIGSEA.install-out.txt --library=/Library/Frameworks/R.framework/Resources/library --no-vignettes --timings GIGSEA_1.24.0.tar.gz StartedAt: 2025-04-01 20:45:53 -0400 (Tue, 01 Apr 2025) EndedAt: 2025-04-01 20:47:19 -0400 (Tue, 01 Apr 2025) EllapsedTime: 86.2 seconds RetCode: 0 Status: OK CheckDir: GIGSEA.Rcheck Warnings: 0