Package: GGPA Version: 1.18.0 Command: /Library/Frameworks/R.framework/Resources/bin/R CMD INSTALL GGPA StartedAt: 2025-01-30 15:21:33 -0500 (Thu, 30 Jan 2025) EndedAt: 2025-01-30 15:22:40 -0500 (Thu, 30 Jan 2025) EllapsedTime: 66.9 seconds RetCode: 0 Status: OK