Package: GGPA Version: 1.18.0 Command: rm -rf GGPA.buildbin-libdir && mkdir GGPA.buildbin-libdir && /Users/biocbuild/BBS/utils/build-universal.sh GGPA_1.18.0.tar.gz /Library/Frameworks/R.framework/Resources/bin/R GGPA.buildbin-libdir StartedAt: 2025-01-31 12:53:55 -0500 (Fri, 31 Jan 2025) EndedAt: 2025-01-31 12:55:05 -0500 (Fri, 31 Jan 2025) EllapsedTime: 70.9 seconds RetCode: 0 Status: OK PackageFile: GGPA_1.18.0.tgz PackageFileSize: 2.869 MiB