Package: GGPA Version: 1.18.0 Command: /Library/Frameworks/R.framework/Resources/bin/R CMD INSTALL GGPA StartedAt: 2025-01-30 15:36:23 -0500 (Thu, 30 Jan 2025) EndedAt: 2025-01-30 15:36:53 -0500 (Thu, 30 Jan 2025) EllapsedTime: 30.0 seconds RetCode: 0 Status: OK