Package: GEWIST Version: 1.50.0 Command: /Library/Frameworks/R.framework/Resources/bin/R CMD INSTALL GEWIST StartedAt: 2025-01-27 17:23:48 -0500 (Mon, 27 Jan 2025) EndedAt: 2025-01-27 17:23:51 -0500 (Mon, 27 Jan 2025) EllapsedTime: 2.6 seconds RetCode: 0 Status: OK