Package: GEWIST Version: 1.50.0 Command: /Library/Frameworks/R.framework/Resources/bin/R CMD check --install=check:GEWIST.install-out.txt --library=/Library/Frameworks/R.framework/Resources/library --no-vignettes --timings GEWIST_1.50.0.tar.gz StartedAt: 2025-01-28 20:39:35 -0500 (Tue, 28 Jan 2025) EndedAt: 2025-01-28 20:40:26 -0500 (Tue, 28 Jan 2025) EllapsedTime: 50.8 seconds RetCode: 0 Status: OK CheckDir: GEWIST.Rcheck Warnings: 0